BEGIN:VCALENDAR
PRODID:-//Det Danske Spejderkorps//NONSGML Gruppeweb//EN
VERSION:2.0
CALSCALE:GREGORIAN
X-PUBLISHED-TTL:PT1H
X-WR-CALNAME:Bestyrelse
METHOD:PUBLISH
BEGIN:VEVENT
UID:gruppeweb.dk:7304:event:302
DTSTAMP:20260420T044554Z
LAST-MODIFIED:20240914T163809Z
SUMMARY:Divisionsturnering
DESCRIPTION:\n
URL:https://1risskov.dk/begivenhed/divisionsturnering
DTSTART;VALUE=DATE:20250523
DTEND;VALUE=DATE:20250526
LOCATION:
END:VEVENT
BEGIN:VEVENT
UID:gruppeweb.dk:7304:event:324
DTSTAMP:20260420T044554Z
LAST-MODIFIED:20241109T153402Z
SUMMARY:Hyttedag foråret 2024
DESCRIPTION:\n
URL:https://1risskov.dk/begivenhed/hyttedag-foraaret-2024
DTSTART:20250518T000000Z
DTEND:20250518T140000Z
LOCATION:
END:VEVENT
BEGIN:VEVENT
UID:gruppeweb.dk:7304:event:373
DTSTAMP:20260420T044554Z
LAST-MODIFIED:20250516T165109Z
SUMMARY:Divisionsturneringen 2025
DESCRIPTION:*Divisionsturnering 2025*\n\n*Sted for afvikling af arrangement
 et: Galgebakken 12\, 8680 Ry - Ryekol  \nSpejderhytte*\n\n*Tema: Tog-tema!
 *\n\n/- Hvis man er så heldig at ligge inde med noget DSB tøj eller lign
 ende\,  \nder kan leve sig ind i tog-temaet\, så er man velkommen til at 
 medbringe  \ndette!/\n\n*\n*\n\nFra d. 23. maj til d. 25. maj afvikles år
 ets divisionsturnering.\n\nMini spejder (2. - 3. klasse) deltager fra lør
 dag formiddag til søndag  \nmiddag.\n\nJunior spejder (4. - 5. klasse) de
 ltager fra fredag eftermiddag/aften til  \nsøndag middag.\n\nTrop spejder
  (6. - 9. klasse) deltager fra fredag eftermiddag/aften til  \nsøndag mi
 ddag.\n\nSenior spejdere deltager som ledere.\n\n\n*Transport ud til divis
 ionsturneringen:*\n\nMikro + Mini transporteres i bus fra Bellevuehallen l
 ørdag formiddag  \n(tidspunkt kommer senere).\n\nJunior + Trop transporte
 res via tog fra Hovedbanegården til Ry fredag  \neftermiddag/aften (tidsp
 unkt kommer senere).\n\n\n*Transport hjem fra divisionsturneringen:*\n\nMi
 ni + Junior + Trop transportes i bus hjem til Bellevuehallen søndag  \nmi
 ddag (tidspunkt kommer senere).\n\n\n\n\n\n\n\n\n*Pakkeliste:*\nSoveposeL
 iggeunderlagToiletsagerEkstra tøj efter behov og  \nvejretDrikkedunkSpise
 grej (tallerken\, bestik og  \nviskestykke)SpejderuniformDolkSko efter vej
 retSolcreme (hvis vejret tillader  \ndet)LommelygteAndet sejt grej\, hvis 
 man ønskerLommepenge juniorspejder\, max.  \n50 kr.Lommepenge trop\, selv
 reguleret\n
URL:https://1risskov.dk/begivenhed/divisionsturneringen-2025
DTSTART:20250523T140000Z
DTEND:20250525T120000Z
LOCATION:1. Risskov Drenge\, Fortevej 101\, 8240 Risskov
END:VEVENT
BEGIN:VEVENT
UID:gruppeweb.dk:7304:event:374
DTSTAMP:20260420T044554Z
LAST-MODIFIED:20250411T100929Z
SUMMARY:Gruppesommerlejr 2025 - Forhåndstilmelding
DESCRIPTION:*Gruppesommerlejr 2025 - Forhåndstilmelding*\n\n\n*Denne tilme
 lding er en forhåndstilmelding. Det betyder\, at tilmeldingen er  \nbinde
 nde i den forstand\, at man ikke får refunderet sin 1. rate betaling.  \n
 Dertil vil der komme en 2. rate\, hvor prisen vil afhænge af\, hvilken gr
 en  \nman er tilknyttet.*\n\n\n1. Risskov Drenge skal til sommer afsted sa
 mmen som gruppe. Denne tradition  \nligger mange år tilbage og det er nog
 et\, som gruppen forsøger at afvikle  \nca. hvert 4. år.\n\nI år går t
 uren til et stort spejdercenter ved navn: *Lejrcentret  \nHummelmosen [1]*
 \, Kvasbrovej 11\, 8586 Ørum.\n\nLejrcentret er booket fra lørdag d. 28.
  juni til lørdag d. 5. juli.\n\n\nMikro (0. - 1. klasse) vil kun deltage 
 nogle udvalgte dage på sommerlejren  \nfra søndag d. 29. juni til tirsda
 g d. 1. juli.\n\nMini (2. - 3. klasse) vil kun deltage nogle udvalgte dage
  på sommerlejren  \nfra lørdag d. 28. juni til tirsdag d. 1. juli.\n\nJu
 nior + Trop (4. - 9. klasse) vil deltage alle dage.\n\n\nDet fulde beløb 
 for de enkelte grene er:\n\nTotal pris for mikro for 2 overnatninger inkl.
  fuld forplejning er: 500\,-  \nDKK. (Dvs. ingen ekstra betaling)\n\nTotal
  pris for mini for 3 overnatninger inkl. fuld forplejning er: 750\,- DKK. 
  \n(Dvs. 2. rate betaling bliver 250\,- DKK)\n\nTotal pris for junior + tr
 op for 7 overnatninger inkl. fuld forplejning er:  \n1500\,- DKK. (Dvs. 2.
  rate betaling bliver 1000\,- DKK)\n\n*Program for ugen\, tema\, transport
 information\, pakkeliste m.m. kommer  \nsenere.*\n\n\n\n[1] https://www.hu
 mmelmosen.dk/\n
URL:https://1risskov.dk/begivenhed/gruppesommerlejr-2025-forhaandstilmeldin
 g
DTSTART:20250628T080000Z
DTEND:20250705T090000Z
LOCATION:1. Risskov Drenge\, Fortevej 101\, 8240 Risskov
END:VEVENT
BEGIN:VEVENT
UID:gruppeweb.dk:7304:event:376
DTSTAMP:20260420T044554Z
LAST-MODIFIED:20250303T144802Z
SUMMARY:Oprykningstur 2025
DESCRIPTION:\n
URL:https://1risskov.dk/begivenhed/oprykningstur-2025
DTSTART;VALUE=DATE:20250830
DTEND;VALUE=DATE:20250901
LOCATION:
END:VEVENT
BEGIN:VEVENT
UID:gruppeweb.dk:7304:event:378
DTSTAMP:20260420T044554Z
LAST-MODIFIED:20250320T102807Z
SUMMARY:Skt. Georgs Dag
DESCRIPTION:\n
URL:https://1risskov.dk/begivenhed/skt-georgs-dag
DTSTART:20250423T160000Z
DTEND:20250423T180000Z
LOCATION:
END:VEVENT
BEGIN:VEVENT
UID:gruppeweb.dk:7304:event:380
DTSTAMP:20260420T044554Z
LAST-MODIFIED:20250622T183127Z
SUMMARY:Gruppesommerlejr 2025
DESCRIPTION:*dSommerlejr 2025*\n\n*Alle forhåndstilmeldte bedes klikke af 
 i feltet "forhåndstilmeldt"\, dette  \nvil reducere prisen bestemt ud fra
  den rigtige spejdergren. Se oversigt over  \nforhåndstilmeldte spejdere 
 ved at klikke her [1].*\n\n*Alle forhåndstilmeldte mikro-spejdere bedes 
 melde sig endeligt til trods  \ndet fulde beløb allerede er betalt (i reg
 istreres blot med 0\,- DKK i denne  \ntilmelding)*\n\n*Prisen der ses for 
 arrangementet (500\,- DKK) er mindste prisen og denne  \nbetales kun af mi
 kro-spejdere der ikke har været forhåndstilmeldt. Pris  \nregulering vil
  ske ved valg af gren.*\n\n*\n*\n\n*Endelig tilmeldingsfrist søndag d. 8.
  juni 2025.*\n\n\n1. Risskov Drenge skal til sommer afsted sammen som grup
 pe. Denne tradition  \nligger mange år tilbage og det er noget\, som grup
 pen forsøger at afvikle  \nca. hvert 4. år.\n\nI år går turen til et s
 tort spejdercenter ved navn: *Lejrcentret  \nHummelmosen [2]*\, Kvasbrove
 j 11\, 8586 Ørum.\n\nLejrcentret er booket fra lørdag d. 28. juni til l
 ørdag d. 5. juli.\n\n\nMikro (0. - 1. klasse) vil kun deltage nogle udval
 gte dage på sommerlejren  \nfra søndag d. 29. juni til tirsdag d. 1. jul
 i.\n\nMini (2. - 3. klasse) vil kun deltage nogle udvalgte dage på sommer
 lejren  \nfra lørdag d. 28. juni til tirsdag d. 1. juli.\n\nJunior + Trop
  (4. - 9. klasse) vil deltage alle dage.\n\n*Transport: *Alle med mulighed
  for det bedes melde sig på til kørsel. Når  \nman melder sig på til k
 ørsel\, så melder man sig selvfølgelig kun på til  \nkørsel for de da
 ge\, hvor ens egen søn skal transporteres.\nDet betyder altså\, at hvis 
 man melder sig på transport ud for en mikro\, så  \nskal man selvfølgel
 ig også først køre søndag d. 29/6.\n\nDet tager ca. 40 minutter at kø
 re til lejrcenteret.\n\n\n\n\n\n\n\n\n\n\n\n\n\n\n\n\n\n\n\n\n\n\n\n\n\n\n
 \n*Program kan hentes ved at klikke her [3]. (Programmet bør downloades 
 på  \ncomputeren for at få anvende den høje opløsning)\n*\n*Forslag ti
 l pakkeliste\n*\n- Sovepose\n- Liggeunderlag\n- Tøj til vejret\n- Ekstra 
 tøj (t-shirt\, undertøj\, sokker\, bukser osv.)\n- Badetøj + Håndklæd
 e\n- Pandelampe / lommelygte\n- Uniform og tørklæde\n- Drikkedunk\n- Tas
 ke man kan vandre med\n- Dolk\n- Støvler/Sko\n- Tur taske (hvis man har p
 lads\, kan det være smart med en lille ekstra  \ntaske til dagsture)\n- T
 andbørste/tandpasta\n- Solcreme/Medicin\n- Spisegrej (tallerken\, viskest
 ykke\, bestik\, mug/kop)\n- Lommepenge til slik/snacks (Mikro + Mini max 1
 00\,- DKK\, Junior max. 200\,-  \nDKK og trop styrer det selv)\n- Madpakke
  til frokost (kun for Mini + Junior + Trop)\n- Sygesikringsbevis\n- Årsko
 rt til Djurs Sommerland (hvis man har)\n\n[1] https://drive.google.com/fil
 e/d/1LS5NptUKvdKOxJ4K75YotmF9OKH1MW2Y/view?usp=sharing\n[2] https://www.hu
 mmelmosen.dk/\n[3] https://drive.google.com/file/d/13Fdep_1bl3z4y5sAP0t82D
 7XuX0ZxRLS/view?usp=sharing\n
URL:https://1risskov.dk/begivenhed/gruppesommerlejr-2025
DTSTART:20250628T080000Z
DTEND:20250705T090000Z
LOCATION:Hummelmosen\, Kvasbrovej 11\, 8586 Ørum
END:VEVENT
BEGIN:VEVENT
UID:gruppeweb.dk:7304:event:433
DTSTAMP:20260420T044554Z
LAST-MODIFIED:20260204T185255Z
SUMMARY:Gruppetur 2026
DESCRIPTION:Så er det atter blevet tid til den årlige gruppetur\, hvor al
 le spejdere fra  \n1. Risskov Drenge samles i hytten ved Ryekol.\n\nI løb
 et af weekenden vil I blive indviet i det hemmelige tema\, som danner  \nr
 ammen for turens aktiviteter og lege.\n\nVi skal blandt andet på et stjer
 neløb i det store område omkring  \nGalgebakken ved Ryekol.\n\n\nVi mød
 es på P-pladsen ved hytten på Fortevej lørdag d. 28/2 kl. 10:30\,  \nhv
 orfra der som sædvanligt er arrangeret fælles transport med hjælp fra  
 \nforældrene.\n\nFor at få kabalen til at gå op ift. transport\, ønske
 s det\, at så mange  \nsom muligt melder sig frivilligt til at køre ud t
 il Ryekol lørdag d. 28/2.\n\n\nSøndag formiddag kommer forældre og søs
 kende. Her startes formiddagen med  \nspejderaktiviteter for alle. Så for
 ældre: husk vanter eller regnfrakke\, alt  \nefter vejret.  \n\nEfterfø
 lgende er der grupperådsmøde\, hvor vi håber at se så mange  \nforæld
 re som muligt.\n\nSom forælder er du automatisk medlem af Grupperådet i 
 1. Risskov Drenge. \nDet årlige Grupperådsmøde er din enestående chan
 ce for:\n• At høre ledelsens og bestyrelsens  beretning om året\, der
  gik i 1.  \nRisskov Dreng\n• Tilsvarende at få et overblik over året\
 , der komme\n\n• At møde lederne og bestyrelsen og få et bedre indtryk
  af gruppen.\n• At få indflydelse på gruppens daglige drift og fremtid
 \n\n• En lækker og ganske gratis frokost sammen med alle spejderne\n\n\
 nDer vil være frokost til alle\, som har tilmeldt sig. Vi vil sætte mege
 t  \nstor pris på\, hvis du udfylder tilmeldingsblanketten korrekt\, da d
 et vil  \nhave indflydelse på mængden af frokost\, vi bestiller. Derfor
  - hvis man  \nhar søskende i gruppen\, som ligeledes tilmeldes turen\, s
 å undgå at  \n"dobbelt-tilmelde" alle deltagere til frokost. :-)\n\n*\nO
 BS: For Tropsspejdere: Turen fra fredag til søndag for jeres vedkommende.
   \nHvis man ikke er trops spejder\, så varer turen fra lørdag til sønd
 ag!*\n\n\n*Vigtige tidspunkter:*\nFælles afgang fra hytten i Risskov   
            Lørdag kl. 10.30\nMikroer der ikke overnatter tager hjem
   Lørdag kl. 18.30\nForældre ankommer                      
              \n Søndag kl. 10.00\nTuren slutter for alle       
             Søndag kl. 12.30  \n(senest)\n\n\nPakkeliste\n- Komple
 t uniform - spejderuniform\, bælte & tørklæde Sovepose\n- Lagen (vi sov
 er inde på madrasser)\n- Sovepose\n- Tandbørste og tandpasta\n- Hjemmesk
 o\n- Madpakke til frokost lørdag\n- Tøj efter vejret\n- Ekstra underbuks
 er og sokker\n- Lommelygte\n\n\n
URL:https://1risskov.dk/begivenhed/gruppetur-2026
DTSTART:20260228T091500Z
DTEND:20260301T130000Z
LOCATION:Ryekol\, Galgebakken 12\, 8680 Ry
END:VEVENT
BEGIN:VEVENT
UID:gruppeweb.dk:7304:event:319
DTSTAMP:20260420T044554Z
LAST-MODIFIED:20241003T051307Z
SUMMARY:Ændrer kontingentsatser for mikro -> mini
DESCRIPTION:\n
URL:https://1risskov.dk/begivenhed/aendrer-kontingentsatser-mikro-mini-15
DTSTART;VALUE=DATE:20270623
LOCATION:
END:VEVENT
BEGIN:VEVENT
UID:gruppeweb.dk:7304:event:320
DTSTAMP:20260420T044554Z
LAST-MODIFIED:20241003T051307Z
SUMMARY:Ændrer kontingentsatser for mikro -> mini
DESCRIPTION:\n
URL:https://1risskov.dk/begivenhed/aendrer-kontingentsatser-mikro-mini-16
DTSTART;VALUE=DATE:20260623
LOCATION:
END:VEVENT
BEGIN:VEVENT
UID:gruppeweb.dk:7304:event:321
DTSTAMP:20260420T044554Z
LAST-MODIFIED:20241003T051307Z
SUMMARY:Ændrer kontingentsatser for mikro -> mini
DESCRIPTION:\n
URL:https://1risskov.dk/begivenhed/aendrer-kontingentsatser-mikro-mini-17
DTSTART;VALUE=DATE:20250623
LOCATION:
END:VEVENT
BEGIN:VEVENT
UID:gruppeweb.dk:7304:event:431
DTSTAMP:20260420T044554Z
LAST-MODIFIED:20251114T063417Z
SUMMARY:Leder- og bestyrelseshygge
DESCRIPTION:*Invitation til leder- og bestyrelseshygge*\n\n\n\nKære alle l
 edere og bestyrelsesmedlemmer\n\n\n\nVi har fået en god håndfuld nye med
 lemmer i vores\nbestyrelse\, og det skal vi selvfølgelig fejre!\n\n\n\nCh
 ristian Thue fra Bestyrelsen og jeg vil derfor gerne invitere alle ledere 
  \nog bestyrelsesmedlemmer til en hyggelig aften d. 18. november kl.  \n18
 :00-21:00. Vi håber\, at aftenen vil være med til at skabe et stærkere 
  \nbånd mellem bestyrelsen og lederne.\n\n\n\nArrangementet starter kl. 1
 7:00\, hvor vi begynder med nogle\naktiviteter for at lære at samarbejde 
 og komme tættere på hinanden. Måske  \nskal\njeres indre spejder findes
  frem!\nOmkring kl. 18:30 finder vi maden frem\, hvortil der vil blive ser
 veret kolde  \nsodavand\, øl og vin. Resten af aftenen vil byde på lidt 
 lege\, aktiviteter  \nog hyggelig snak.\n\n\n\nOfficielt slutter arrangeme
 ntet kl. 21:00\, er man nødt til\nat gå tidligere\, er det selvfølgelig
  helt i orden. Hvem ved – måske  \nbliver vi\ngrebet af stemningen og f
 ortsætter længere ud på aftenen :-)\n\n\n\nHar man allergener eller and
 re hensyn til maden\, skal man\nblot skrive til mig\, så finder vi en lø
 sning.\n\n\n\nHvis man har en god idé til en aktivitet eller leg\, må ma
 n\nmeget gerne skrive til mig! Vi skal selvfølgelig nok være med til at 
  \nfacilitere\naktiviteten.\n\n\n\nDet hele er selvfølgelig gratis medbri
 ng derfor kun jeres\ngode humør!\n\n\n\nTilmeld jer inden *d. 31. oktober
 *\, så vi ved hvor\nmeget mad vi skal købe.\n\n\n\nVi håber at se så m
 ange af jer som muligt!\n\n\n\n\nMvh.\nChristian & Ask\n\n\n\n
URL:https://1risskov.dk/begivenhed/leder-og-bestyrelseshygge
DTSTART:20251118T170000Z
DTEND:20251118T200000Z
LOCATION:1. Risskov Drenge\, Fortevej 101\, 8240 Risskov
END:VEVENT
END:VCALENDAR
